BEGIN:VCALENDAR
VERSION:2.0
PRODID:-//Tukios.com/
BEGIN:VEVENT
UID:181f6a59-2a35-488b-af3a-3e42a23486a2@www.highfuneralhome.com
DTSTAMP:20260421T191239Z
DTSTART:20260425T190000Z
DTEND:20260425T200000Z
SUMMARY:Funeral Service
DESCRIPTION:
URL:https://www.highfuneralhome.com/obituaries/john-brown
LOCATION: 101 College St  McMinnville TN 37110
GEO:35.6823441;-85.7732486
END:VEVENT
END:VCALENDAR