BEGIN:VCALENDAR
VERSION:2.0
PRODID:-//Tukios.com/
BEGIN:VEVENT
UID:0dde627d-f3ab-48dd-a7d7-c6c5fa3bac7c@www.highfuneralhome.com
DTSTAMP:20260421T191154Z
DTSTART:20260425T200000Z
DTEND:20260425T210000Z
SUMMARY:Burial
DESCRIPTION:
URL:https://www.highfuneralhome.com/obituaries/john-brown
LOCATION: 209 Mountain Street  McMinnville TN 37110
GEO:35.6967875;-85.7650625
END:VEVENT
END:VCALENDAR