BEGIN:VCALENDAR
VERSION:2.0
PRODID:-//Tukios.com/
BEGIN:VEVENT
UID:e5668d0b-658f-4c4e-a852-ebdd5c4a19d7@www.highfuneralhome.com
DTSTAMP:20260423T012201Z
DTSTART:20260426T150000Z
DTEND:20260426T190000Z
SUMMARY:Visitation
DESCRIPTION:
URL:https://www.highfuneralhome.com/obituaries/manda-perkins
LOCATION:High’s 101 College Street  McMinnville TN 37110
GEO:35.682337;-85.773227
END:VEVENT
END:VCALENDAR