BEGIN:VCALENDAR
VERSION:2.0
PRODID:-//Tukios.com/
BEGIN:VEVENT
UID:706f7355-b767-49df-90eb-3f8d390de415@www.highfuneralhome.com
DTSTAMP:20260423T012025Z
DTSTART:20260426T190000Z
DTEND:20260426T200000Z
SUMMARY:Funeral Service
DESCRIPTION:
URL:https://www.highfuneralhome.com/obituaries/manda-perkins
LOCATION:High’s Chapel 101 College Street  McMinnville TN 37110
GEO:35.682337;-85.773227
END:VEVENT
END:VCALENDAR