BEGIN:VCALENDAR
VERSION:2.0
PRODID:-//Tukios.com/
BEGIN:VEVENT
UID:d10efbfb-1741-49d4-9b05-92c8ed458010@www.highfuneralhome.com
DTSTAMP:20260422T232123Z
DTSTART:20260423T220000Z
DTEND:20260424T010000Z
SUMMARY:Visitation
DESCRIPTION:
URL:https://www.highfuneralhome.com/obituaries/martha-jones
LOCATION: 101 College Street  McMinnville TN 37110
GEO:35.682337;-85.773227
END:VEVENT
END:VCALENDAR