BEGIN:VCALENDAR
VERSION:2.0
PRODID:-//Tukios.com/
BEGIN:VEVENT
UID:fb9dfe9f-51e4-4c82-8161-805bd87ab4d2@www.highfuneralhome.com
DTSTAMP:20260422T232323Z
DTSTART:20260424T150000Z
DTEND:20260424T180000Z
SUMMARY:Visitation
DESCRIPTION:
URL:https://www.highfuneralhome.com/obituaries/martha-jones
LOCATION: 101 College Street  McMinnville TN 37110
GEO:35.682337;-85.773227
END:VEVENT
END:VCALENDAR