BEGIN:VCALENDAR
VERSION:2.0
PRODID:-//Tukios.com/
BEGIN:VEVENT
UID:21a709f3-3c6b-4a73-9189-177036b26356@www.highfuneralhome.com
DTSTAMP:20260422T232517Z
DTSTART:20260424T180000Z
DTEND:20260424T190000Z
SUMMARY:Funeral Service
DESCRIPTION:
URL:https://www.highfuneralhome.com/obituaries/martha-jones
LOCATION:High's Chapel 101 College Street  McMinnville TN 37110
GEO:35.6823441;-85.7732486
END:VEVENT
END:VCALENDAR